BEGIN:VCALENDAR
VERSION:2.0
PRODID:-//Wish For Our Heroes - ECPv6.15.18//NONSGML v1.0//EN
CALSCALE:GREGORIAN
METHOD:PUBLISH
X-ORIGINAL-URL:https://www.wishforourheroes.org
X-WR-CALDESC:Events for Wish For Our Heroes
REFRESH-INTERVAL;VALUE=DURATION:PT1H
X-Robots-Tag:noindex
X-PUBLISHED-TTL:PT1H
BEGIN:VTIMEZONE
TZID:America/New_York
BEGIN:DAYLIGHT
TZOFFSETFROM:-0500
TZOFFSETTO:-0400
TZNAME:EDT
DTSTART:20230312T070000
END:DAYLIGHT
BEGIN:STANDARD
TZOFFSETFROM:-0400
TZOFFSETTO:-0500
TZNAME:EST
DTSTART:20231105T060000
END:STANDARD
BEGIN:DAYLIGHT
TZOFFSETFROM:-0500
TZOFFSETTO:-0400
TZNAME:EDT
DTSTART:20240310T070000
END:DAYLIGHT
BEGIN:STANDARD
TZOFFSETFROM:-0400
TZOFFSETTO:-0500
TZNAME:EST
DTSTART:20241103T060000
END:STANDARD
BEGIN:DAYLIGHT
TZOFFSETFROM:-0500
TZOFFSETTO:-0400
TZNAME:EDT
DTSTART:20250309T070000
END:DAYLIGHT
BEGIN:STANDARD
TZOFFSETFROM:-0400
TZOFFSETTO:-0500
TZNAME:EST
DTSTART:20251102T060000
END:STANDARD
END:VTIMEZONE
BEGIN:VEVENT
DTSTART;TZID=America/New_York:20241114T000000
DTEND;TZID=America/New_York:20241115T000000
DTSTAMP:20260423T103641
CREATED:20240624T130146Z
LAST-MODIFIED:20241115T133622Z
UID:2629-1731542400-1731628800@www.wishforourheroes.org
SUMMARY:The 7th Annual Golf Classic & Night for Our Heroes Gala
DESCRIPTION:Join Us for an Unforgettable Experience!\nMark your calendars! Registration Now Open.  \nFor this year’s event\, we’re thrilled to announce an exciting addition to our lineup. Alongside our beloved Golf Classic\, we’re also including a pickleball tournament to ensure even more fun and participation. \nWhen:\nNight for Our Heroes Gala – Thursday\, November 14th\, 2024\nGolf Classic & Pickleball Tournament – Friday\, November 15th\, 2024 \nWhere: \nThe Yards in Ponte Vedra Beach \n254 Alta Mar Drive\nPonte Vedra Beach\, Florida\, 32082 \n  \n  \n\n\nFor additional event & sponsorship information\, contact:\n\nGary Verble: vintagemgt@gmail.com; 904-626-8044\nZach Vinal: zach@playtheyards.com\nCarl Jablonski: carljablonski50@gmail.com\nJ. Wayne Richmond: jwrichmond@bellsouth.net
URL:https://www.wishforourheroes.org/event/the-7th-annual-golf-classic-night-for-our-heroes-gala/
LOCATION:The Yards Golf Club\, 254 Alta Mar Drive\, Ponte Vedra Beach\, FL\, 32082\, United States
CATEGORIES:Florida,Fundraisers
ATTACH;FMTTYPE=image/jpeg:https://www.wishforourheroes.org/wp-content/uploads/W4H-2024-save-the-date-2.jpg
END:VEVENT
END:VCALENDAR