BEGIN:VCALENDAR
VERSION:2.0
PRODID:-//Wish For Our Heroes - ECPv6.15.18//NONSGML v1.0//EN
CALSCALE:GREGORIAN
METHOD:PUBLISH
X-ORIGINAL-URL:https://www.wishforourheroes.org
X-WR-CALDESC:Events for Wish For Our Heroes
REFRESH-INTERVAL;VALUE=DURATION:PT1H
X-Robots-Tag:noindex
X-PUBLISHED-TTL:PT1H
BEGIN:VTIMEZONE
TZID:America/New_York
BEGIN:DAYLIGHT
TZOFFSETFROM:-0500
TZOFFSETTO:-0400
TZNAME:EDT
DTSTART:20220313T070000
END:DAYLIGHT
BEGIN:STANDARD
TZOFFSETFROM:-0400
TZOFFSETTO:-0500
TZNAME:EST
DTSTART:20221106T060000
END:STANDARD
BEGIN:DAYLIGHT
TZOFFSETFROM:-0500
TZOFFSETTO:-0400
TZNAME:EDT
DTSTART:20230312T070000
END:DAYLIGHT
BEGIN:STANDARD
TZOFFSETFROM:-0400
TZOFFSETTO:-0500
TZNAME:EST
DTSTART:20231105T060000
END:STANDARD
BEGIN:DAYLIGHT
TZOFFSETFROM:-0500
TZOFFSETTO:-0400
TZNAME:EDT
DTSTART:20240310T070000
END:DAYLIGHT
BEGIN:STANDARD
TZOFFSETFROM:-0400
TZOFFSETTO:-0500
TZNAME:EST
DTSTART:20241103T060000
END:STANDARD
END:VTIMEZONE
BEGIN:VEVENT
DTSTART;TZID=America/New_York:20231109T190000
DTEND;TZID=America/New_York:20231109T190000
DTSTAMP:20260424T033818
CREATED:20230821T170728Z
LAST-MODIFIED:20231023T201637Z
UID:2364-1699556400-1699556400@www.wishforourheroes.org
SUMMARY:Night for Our Heroes Dinner & Gala Presented by Swisher\, Ponte Vedra Beach FL
DESCRIPTION:  \nFor more event details\, registration\, & ticket info\, visit here: https://www.northfloridaheroes.org/ \nWHERE:\nThe Yards\n254 Alta Mar Drive\nPonte Vedra Beach\, Florida\, 32082 \n \n\n\n 
URL:https://www.wishforourheroes.org/event/wfoh-florida-6th-annual-golf-classic-inaugural-night-for-our-heroes-gala-at-the-yards/
LOCATION:The Yards Golf Club\, 254 Alta Mar Drive\, Ponte Vedra Beach\, FL\, 32082\, United States
CATEGORIES:Florida,Fundraisers
END:VEVENT
END:VCALENDAR