BEGIN:VCALENDAR
VERSION:2.0
PRODID:-//Wish For Our Heroes - ECPv6.15.18//NONSGML v1.0//EN
CALSCALE:GREGORIAN
METHOD:PUBLISH
X-WR-CALNAME:Wish For Our Heroes
X-ORIGINAL-URL:https://www.wishforourheroes.org
X-WR-CALDESC:Events for Wish For Our Heroes
REFRESH-INTERVAL;VALUE=DURATION:PT1H
X-Robots-Tag:noindex
X-PUBLISHED-TTL:PT1H
BEGIN:VTIMEZONE
TZID:America/New_York
BEGIN:DAYLIGHT
TZOFFSETFROM:-0500
TZOFFSETTO:-0400
TZNAME:EDT
DTSTART:20210314T070000
END:DAYLIGHT
BEGIN:STANDARD
TZOFFSETFROM:-0400
TZOFFSETTO:-0500
TZNAME:EST
DTSTART:20211107T060000
END:STANDARD
BEGIN:DAYLIGHT
TZOFFSETFROM:-0500
TZOFFSETTO:-0400
TZNAME:EDT
DTSTART:20220313T070000
END:DAYLIGHT
BEGIN:STANDARD
TZOFFSETFROM:-0400
TZOFFSETTO:-0500
TZNAME:EST
DTSTART:20221106T060000
END:STANDARD
BEGIN:DAYLIGHT
TZOFFSETFROM:-0500
TZOFFSETTO:-0400
TZNAME:EDT
DTSTART:20230312T070000
END:DAYLIGHT
BEGIN:STANDARD
TZOFFSETFROM:-0400
TZOFFSETTO:-0500
TZNAME:EST
DTSTART:20231105T060000
END:STANDARD
END:VTIMEZONE
BEGIN:VEVENT
DTSTART;VALUE=DATE:20221115
DTEND;VALUE=DATE:20221117
DTSTAMP:20260424T200136
CREATED:20220714T210641Z
LAST-MODIFIED:20221108T154450Z
UID:2247-1668474000-1668560399@www.wishforourheroes.org
SUMMARY:WFOH Florida 5th Annual Golf Classic at The Yards
DESCRIPTION:Our Golf Classic Has Been Moved to Tuesday\, November 15th!\nMark your calendars! This year’s event will be hosted at The Yards\, formerly Oak Bridge Club\, in Ponte Vedra Beach.  \nWHERE:\nThe Yards\n254 Alta Mar Drive\nPonte Vedra Beach\, Florida\, 32082 \n \n\n\n\nWHEN:\nTuesday\, November 15\, 2022 \n\n11:30 a.m. Registration and practice range open\n1 p.m. Shotgun start\n\nWHAT:\n\nDinner\, Awards\, & Live Auction to follow\nFirst and second-place winners\nOptional putting contest\nOptional closest to the pinhole contest\n\nRegistration Fee: \n\n$300 for individuals\n$1\,000 for a foursome ($250 per person)\n\nFor additional event & sponsorship information\, contact:\n\nGary Verble: vintagemgt@gmail.com; 904-626-8044\nZach Vinal: zach@playtheyards.com\nCarl Jablonski: carljablonski50@gmail.com\nJ. Wayne Richmond: jwrichmond@bellsouth.net\n\nSPONSORSHIP OPPORTUNITIES:\nPresenting Sponsor\nSwisher International \n$10\,000 Gold Sponsor\n(includes three foursomes) \n$5\,000 Silver Sponsor\n(includes two foursomes) \n$2\,500 Bronze Sponsor\n(includes one foursome) \n$250 Hole Sponsor \n\n\n                \n                        \n                            Annual Golf Classic: Event Registration\n                            Please use the form below to register for this year's golf classic. \n							"*" indicates required fields \n                        \n                        EmailThis field is for validation purposes and should be left unchanged.Name*\n                            \n                            \n                                                    \n                                                    First\n                                                \n                            \n                            \n                                                    \n                                                    Last\n                                                \n                            \n                        Email*\n                            \n                        Phone Number*Are You Registering as an Individual or Group?*\n								\n								Individual\n							\n								\n								Group\n							If group\, please enter other player's namesPlease mail registration checks to:  \n\nWish For Our Heroes\nP.O Box 915\nPonte Vedra Beach\, FL 32004 \n\nPay by Credit Card at the event Marketing Email Consent\n								\n								Yes! Add me to your newsletter to receive updates from Wish for Our Heroes!\n							\n          \n            \n            \n            \n            \n            \n            \n            \n            \n            \n            \n            \n            \n            \n        \n                        Δ
URL:https://www.wishforourheroes.org/event/wfoh-florida-5th-annual-golf-classic/
LOCATION:The Yards Golf Club\, 254 Alta Mar Drive\, Ponte Vedra Beach\, FL\, 32082\, United States
CATEGORIES:Florida,Fundraisers
ATTACH;FMTTYPE=image/png:https://www.wishforourheroes.org/wp-content/uploads/W4H_22_Registration_update3_banner.png
END:VEVENT
END:VCALENDAR