BEGIN:VCALENDAR
VERSION:2.0
PRODID:-//Wish For Our Heroes - ECPv6.15.18//NONSGML v1.0//EN
CALSCALE:GREGORIAN
METHOD:PUBLISH
X-ORIGINAL-URL:https://www.wishforourheroes.org
X-WR-CALDESC:Events for Wish For Our Heroes
REFRESH-INTERVAL;VALUE=DURATION:PT1H
X-Robots-Tag:noindex
X-PUBLISHED-TTL:PT1H
BEGIN:VTIMEZONE
TZID:America/New_York
BEGIN:DAYLIGHT
TZOFFSETFROM:-0500
TZOFFSETTO:-0400
TZNAME:EDT
DTSTART:20220313T070000
END:DAYLIGHT
BEGIN:STANDARD
TZOFFSETFROM:-0400
TZOFFSETTO:-0500
TZNAME:EST
DTSTART:20221106T060000
END:STANDARD
BEGIN:DAYLIGHT
TZOFFSETFROM:-0500
TZOFFSETTO:-0400
TZNAME:EDT
DTSTART:20230312T070000
END:DAYLIGHT
BEGIN:STANDARD
TZOFFSETFROM:-0400
TZOFFSETTO:-0500
TZNAME:EST
DTSTART:20231105T060000
END:STANDARD
BEGIN:DAYLIGHT
TZOFFSETFROM:-0500
TZOFFSETTO:-0400
TZNAME:EDT
DTSTART:20240310T070000
END:DAYLIGHT
BEGIN:STANDARD
TZOFFSETFROM:-0400
TZOFFSETTO:-0500
TZNAME:EST
DTSTART:20241103T060000
END:STANDARD
END:VTIMEZONE
BEGIN:VTIMEZONE
TZID:America/Indiana/Indianapolis
BEGIN:DAYLIGHT
TZOFFSETFROM:-0500
TZOFFSETTO:-0400
TZNAME:EDT
DTSTART:20220313T070000
END:DAYLIGHT
BEGIN:STANDARD
TZOFFSETFROM:-0400
TZOFFSETTO:-0500
TZNAME:EST
DTSTART:20221106T060000
END:STANDARD
BEGIN:DAYLIGHT
TZOFFSETFROM:-0500
TZOFFSETTO:-0400
TZNAME:EDT
DTSTART:20230312T070000
END:DAYLIGHT
BEGIN:STANDARD
TZOFFSETFROM:-0400
TZOFFSETTO:-0500
TZNAME:EST
DTSTART:20231105T060000
END:STANDARD
BEGIN:DAYLIGHT
TZOFFSETFROM:-0500
TZOFFSETTO:-0400
TZNAME:EDT
DTSTART:20240310T070000
END:DAYLIGHT
BEGIN:STANDARD
TZOFFSETFROM:-0400
TZOFFSETTO:-0500
TZNAME:EST
DTSTART:20241103T060000
END:STANDARD
END:VTIMEZONE
BEGIN:VEVENT
DTSTART;TZID=America/New_York:20231109T190000
DTEND;TZID=America/New_York:20231109T190000
DTSTAMP:20260424T020338
CREATED:20230821T170728Z
LAST-MODIFIED:20231023T201637Z
UID:2364-1699556400-1699556400@www.wishforourheroes.org
SUMMARY:Night for Our Heroes Dinner & Gala Presented by Swisher\, Ponte Vedra Beach FL
DESCRIPTION:  \nFor more event details\, registration\, & ticket info\, visit here: https://www.northfloridaheroes.org/ \nWHERE:\nThe Yards\n254 Alta Mar Drive\nPonte Vedra Beach\, Florida\, 32082 \n \n\n\n 
URL:https://www.wishforourheroes.org/event/wfoh-florida-6th-annual-golf-classic-inaugural-night-for-our-heroes-gala-at-the-yards/
LOCATION:The Yards Golf Club\, 254 Alta Mar Drive\, Ponte Vedra Beach\, FL\, 32082\, United States
CATEGORIES:Florida,Fundraisers
END:VEVENT
BEGIN:VEVENT
DTSTART;VALUE=DATE:20231110
DTEND;VALUE=DATE:20231112
DTSTAMP:20260424T020338
CREATED:20231023T175328Z
LAST-MODIFIED:20231023T175328Z
UID:2388-1699578000-1699664399@www.wishforourheroes.org
SUMMARY:Heroes Golf Classic\, Ponte Vedra Beach FL
DESCRIPTION:  \nFor more event details\, registration\, & ticket info\, visit here: https://www.northfloridaheroes.org/ \nWHERE:\nThe Yards\n254 Alta Mar Drive\nPonte Vedra Beach\, Florida\, 32082 \n \n\n\n 
URL:https://www.wishforourheroes.org/event/wfoh-florida-6th-annual-golf-classic-inaugural-night-for-our-heroes-gala-at-the-yards-2/
LOCATION:The Yards Golf Club\, 254 Alta Mar Drive\, Ponte Vedra Beach\, FL\, 32082\, United States
CATEGORIES:Florida,Fundraisers
END:VEVENT
BEGIN:VEVENT
DTSTART;TZID=America/Indiana/Indianapolis:20231110T180000
DTEND;TZID=America/Indiana/Indianapolis:20231110T180000
DTSTAMP:20260424T020338
CREATED:20231023T180426Z
LAST-MODIFIED:20231023T182050Z
UID:2390-1699639200-1699639200@www.wishforourheroes.org
SUMMARY:Burnt Store Wish For Our Heroes Weekend Pre Party
DESCRIPTION:Burnt Store Veterans Day Weekend\n\n\nSince inception in 2010\, Burnt Store Marina Veterans Day events have raised more than $600\,000 for WISH for OUR HEROES\, a charity dedicated to assisting active-duty and Veteran military families struggling with basic needs such as food\, shelter\, transportation\, child needs\, and medical expenses.  100% of all proceeds from the 2023 weekend activities benefit WISH for OUR HEROES.
URL:https://www.wishforourheroes.org/event/burnt-store-wish-for-our-heroes-weekend-pre-party/
LOCATION:Cass Cay Restaurant and Bar\, 3200 Matecumbe Key Rd.\, Punta Gorda\, FL\, 33955\, United States
CATEGORIES:Florida,Fundraisers
END:VEVENT
BEGIN:VEVENT
DTSTART;TZID=America/Indiana/Indianapolis:20231111T170000
DTEND;TZID=America/Indiana/Indianapolis:20231111T170000
DTSTAMP:20260424T020338
CREATED:20231023T181727Z
LAST-MODIFIED:20231023T201734Z
UID:2396-1699722000-1699722000@www.wishforourheroes.org
SUMMARY:Heroes Dinner & Fundraiser w/ Live Music @ Cass Cay Restaurant and Bar
DESCRIPTION:Burnt Store Veterans Day Weekend\n\n\nSince inception in 2010\, Burnt Store Marina Veterans Day events have raised more than $600\,000 for WISH for OUR HEROES\, a charity dedicated to assisting active-duty and Veteran military families struggling with basic needs such as food\, shelter\, transportation\, child needs\, and medical expenses.  100% of all proceeds from the 2023 weekend activities benefit WISH for OUR HEROES.
URL:https://www.wishforourheroes.org/event/heroes-dinner-fundraiser-w-live-music-cass-cay-restaurant-and-bar/
LOCATION:Cass Cay Restaurant and Bar\, 3200 Matecumbe Key Rd.\, Punta Gorda\, FL\, 33955\, United States
CATEGORIES:Florida,Fundraisers
END:VEVENT
END:VCALENDAR