BEGIN:VCALENDAR
VERSION:2.0
PRODID:-//Wish For Our Heroes - ECPv6.15.18//NONSGML v1.0//EN
CALSCALE:GREGORIAN
METHOD:PUBLISH
X-WR-CALNAME:Wish For Our Heroes
X-ORIGINAL-URL:https://www.wishforourheroes.org
X-WR-CALDESC:Events for Wish For Our Heroes
REFRESH-INTERVAL;VALUE=DURATION:PT1H
X-Robots-Tag:noindex
X-PUBLISHED-TTL:PT1H
BEGIN:VTIMEZONE
TZID:America/New_York
BEGIN:DAYLIGHT
TZOFFSETFROM:-0500
TZOFFSETTO:-0400
TZNAME:EDT
DTSTART:20200308T070000
END:DAYLIGHT
BEGIN:STANDARD
TZOFFSETFROM:-0400
TZOFFSETTO:-0500
TZNAME:EST
DTSTART:20201101T060000
END:STANDARD
BEGIN:DAYLIGHT
TZOFFSETFROM:-0500
TZOFFSETTO:-0400
TZNAME:EDT
DTSTART:20210314T070000
END:DAYLIGHT
BEGIN:STANDARD
TZOFFSETFROM:-0400
TZOFFSETTO:-0500
TZNAME:EST
DTSTART:20211107T060000
END:STANDARD
BEGIN:DAYLIGHT
TZOFFSETFROM:-0500
TZOFFSETTO:-0400
TZNAME:EDT
DTSTART:20220313T070000
END:DAYLIGHT
BEGIN:STANDARD
TZOFFSETFROM:-0400
TZOFFSETTO:-0500
TZNAME:EST
DTSTART:20221106T060000
END:STANDARD
END:VTIMEZONE
BEGIN:VEVENT
DTSTART;TZID=America/New_York:20211112T080000
DTEND;TZID=America/New_York:20211112T130000
DTSTAMP:20260425T114745
CREATED:20190215T195505Z
LAST-MODIFIED:20211201T173048Z
UID:1907-1636704000-1636722000@www.wishforourheroes.org
SUMMARY:WFOH Florida 4th Annual Golf Classic at Marsh Landing
DESCRIPTION:Stay tuned for information on our 2022 tournament! \nThis year’s event has concluded. Thank you to everyone who participated. All proceeds will assist local active-duty military members struggling with basic needs.  \nWHERE:\nMarsh Landing Country Club\n25655 Marsh Landing Parkway\nPonte Vedra Beach\, Florida\, 32082 \nWHEN:\nFriday\, November 12\, 2021 \n\n8 a.m. Registration and practice range open\n9 a.m. Shotgun start\n\nWHAT:\n\nOptional putting contest\nFirst and second place winners\nBreakfast and lunch are provided\, followed by a silent auction\n“Wish for Our Heroes” full-zip vest in royal blue included as a thank you gift to all participants\n\nRegistration Fee: \n\n$300 for individuals\n$1\,000 for a foursome ($250 per person)\n\nFor additional event & sponsorship information\, contact Joe Pearce: jpearce@wishforourheroes.org or 904.608.5995\n  \nSPONSORSHIP OPPORTUNITIES:\nPresenting Sponsor\nSwisher International \n$10\,000 Gold Sponsor\n(includes three foursomes) \n$5\,000 Silver Sponsor\n(includes two foursomes) \n$2\,500 Bronze Sponsor\n(includes one foursome) \n$250 Hole Sponsor \n 
URL:https://www.wishforourheroes.org/event/wfoh-florida-4th-annual-golf-classic/
LOCATION:Marsh Landing Country Club\, 25655 Marsh Landing Pkwy\, Ponte Vedra Beach\, FL\, 32082\, United States
CATEGORIES:Florida,Fundraisers
ATTACH;FMTTYPE=image/jpeg:https://www.wishforourheroes.org/wp-content/uploads/W4OH_GolfEvent_2021.jpg
END:VEVENT
END:VCALENDAR